BEGIN:VCALENDAR
VERSION:2.0
PRODID:-//AccuRight Australia - ECPv4.1.2//NONSGML v1.0//EN
CALSCALE:GREGORIAN
METHOD:PUBLISH
X-WR-CALNAME:AccuRight Australia
X-ORIGINAL-URL:http://www.accuright.com.au
X-WR-CALDESC:Events for AccuRight Australia
BEGIN:VEVENT
DTSTART;TZID=Australia/Brisbane:20150724T190000
DTEND;TZID=Australia/Brisbane:20150724T200000
DTSTAMP:20190227T234958
CREATED:20150721T111426
LAST-MODIFIED:20150721T112057
UID:458-1437764400-1437768000@www.accuright.com.au
SUMMARY:Business Incubator Workshop
DESCRIPTION:Please register for the Business Incubator Workshop webinar by clicking on the link below.\nhttp://gowoa.me/i/yn7
URL:http://www.accuright.com.au/events/business-incubator-workshop/
LOCATION:http://gowoa.me/i/yn7
END:VEVENT
END:VCALENDAR